BEGIN:VCALENDAR
VERSION:2.0
PRODID:-//CiviCRM//NONSGML CiviEvent iCal//EN
X-WR-TIMEZONE:Europe/Paris
METHOD:PUBLISH
BEGIN:VTIMEZONE
TZID:Europe/Paris
BEGIN:DAYLIGHT
TZOFFSETFROM:+0200
TZOFFSETTO:+0200
TZNAME:CEST
DTSTART:20260717T000000
END:DAYLIGHT
END:VTIMEZONE
BEGIN:VEVENT
UID:CiviCRM_EventID_1575_e57f708e44b3c86211d38e2275526c4b@www.parisaquatique.fr
SUMMARY:Hamburg Queer Cup
X-ALT-DESC;FMTTYPE=text/html:<!DOCTYPE HTML PUBLIC
  "-//W3C//DTD HTML 3.2//EN"><html><body><p>Voici l
 a présentation des organisateurs :</p>\n \n <p>Not
 re compétition de natation vous offre une excellen
 te occasion de célébrer et de promouvoir vos talen
 ts et compétences en natation. Le concours est ouv
 ert à tous\, sans distinction de genre\, d’orienta
 tion sexuelle ou d’origine culturelle. Il y a dive
 rses compétitions en nage libre\, dos crawlé\, bra
 sse et papillon pour tous les groupes d’âge.</p>\n
  \n <p>Veuillez enregistrer la date dès aujourd’hu
 i dans votre calendrier. Nous fournirons plus d’in
 formations sur les concours et le programme sur ce
 tte page et via des newsletters.</p>\n \n <p>Si vo
 us avez des questions\, n’hésitez pas à nous conta
 cter. Nous sommes heureux de vous aider. Pour tout
 e question concernant le concours\, veuillez conta
 cter <a href="mailto:registration@hamburg-queer-cu
 p.de">registration@hamburg-queer-cup.de</a></p>\n 
 \n <p>Pour des questions générales\, veuillez écri
 re un courriel à <a href="mailto:moin@hamburg-quee
 r-cup.de">moin@hamburg-queer-cup.de</a>.</p></body
 ></html>
DESCRIPTION:Voici la présentation des organisateurs :\n \n \n 
 \n Notre compétition de natation vous offre une ex
 cellente occasion de célébrer et de promouvoir vos
  talents et compétences en natation. Le concours e
 st ouvert à tous\, sans distinction de genre\, d’o
 rientation sexuelle ou d’origine culturelle. Il y 
 a diverses compétitions en nage libre\, dos crawlé
 \, brasse et papillon pour tous les groupes d’âge.
 \n \n \n \n Veuillez enregistrer la date dès aujou
 rd’hui dans votre calendrier. Nous fournirons plus
  d’informations sur les concours et le programme s
 ur cette page et via des newsletters.\n \n \n \n S
 i vous avez des questions\, n’hésitez pas à nous c
 ontacter. Nous sommes heureux de vous aider. Pour 
 toute question concernant le concours\, veuillez c
 ontacter registration@hamburg-queer-cup.de (mailto
 :registration@hamburg-queer-cup.de)\n \n \n \n Pou
 r des questions générales\, veuillez écrire un cou
 rriel à moin@hamburg-queer-cup.de (mailto:moin@ham
 burg-queer-cup.de).\n \n 
CATEGORIES:Compétition
CALSCALE:GREGORIAN
DTSTAMP;TZID=Europe/Paris:20260717T000000
DTSTART;TZID=Europe/Paris:20260717T000000
DTEND;TZID=Europe/Paris:20260719T000000
LOCATION:hambourg\, \n Germany\n 
URL:https://www.parisaquatique.fr/civicrm/event/info?reset=1&id=1575
END:VEVENT
END:VCALENDAR
