BEGIN:VCALENDAR
VERSION:2.0
PRODID:-//CiviCRM//NONSGML CiviEvent iCal//EN
X-WR-TIMEZONE:Europe/Paris
METHOD:PUBLISH
BEGIN:VTIMEZONE
TZID:Europe/Paris
BEGIN:DAYLIGHT
TZOFFSETFROM:+0200
TZOFFSETTO:+0200
TZNAME:CEST
DTSTART:20260510T000000
END:DAYLIGHT
END:VTIMEZONE
BEGIN:VEVENT
UID:CiviCRM_EventID_1567_e57f708e44b3c86211d38e2275526c4b@www.parisaquatique.fr
SUMMARY:Stage des Canaries - nuit(s) supplémentaire(s) apr
 ès le stage - Canary Islands camp - extra night(s)
  after the end
X-ALT-DESC;FMTTYPE=text/html:<!DOCTYPE HTML PUBLIC
  "-//W3C//DTD HTML 3.2//EN"><html><body><p>Ne choi
 sir le tarif duo ou trio que si vous avez identifi
 é une ou deux personnes qui veulent partager cette
  nuit supplémentaire avec vous. Ils devront souscr
 ire à la même option que vous. Dans le cas contrai
 re\, choisir le tarif solo.</p>\n \n <p><em>Choose
  the duo or trio rate only if you have identified 
 one or two people who want to share this extra nig
 ht with you. They will have to subscribe to the sa
 me option as you. Otherwise\, choose the solo rate
 .</em><br />\n  </p></body></html>
DESCRIPTION:Ne choisir le tarif duo ou trio que si vous avez i
 dentifié une ou deux personnes qui veulent partage
 r cette nuit supplémentaire avec vous. Ils devront
  souscrire à la même option que vous. Dans le cas 
 contraire\, choisir le tarif solo.\n \n \n \n Choo
 se the duo or trio rate only if you have identifie
 d one or two people who want to share this extra n
 ight with you. They will have to subscribe to the 
 same option as you. Otherwise\, choose the solo ra
 te.\n \n  \n \n 
CATEGORIES:Stage
CALSCALE:GREGORIAN
DTSTAMP;TZID=Europe/Paris:20260510T000000
DTSTART;TZID=Europe/Paris:20260510T000000
DTEND;TZID=Europe/Paris:20260512T000000
URL:https://www.parisaquatique.fr/civicrm/event/info?reset=1&id=1567
END:VEVENT
END:VCALENDAR
