BEGIN:VCALENDAR
VERSION:2.0
PRODID:-//CiviCRM//NONSGML CiviEvent iCal//EN
X-WR-TIMEZONE:Europe/Paris
METHOD:PUBLISH
BEGIN:VTIMEZONE
TZID:Europe/Paris
BEGIN:DAYLIGHT
TZOFFSETFROM:+0200
TZOFFSETTO:+0200
TZNAME:CEST
DTSTART:20260523T000000
END:DAYLIGHT
END:VTIMEZONE
BEGIN:VEVENT
UID:CiviCRM_EventID_1563_e57f708e44b3c86211d38e2275526c4b@www.parisaquatique.fr
SUMMARY:T.I.P. Nat'course (Tournois International de Paris
 )
X-ALT-DESC;FMTTYPE=text/html:<!DOCTYPE HTML PUBLIC
  "-//W3C//DTD HTML 3.2//EN"><html><body><p>Les ins
 criptions\, c'est ici: </p>\n \n <p>https://www.pa
 ris-tournament.com/</p></body></html>
DESCRIPTION:Les inscriptions\, c'est ici: \n \n \n \n https://
 www.paris-tournament.com/\n \n 
CATEGORIES:Compétition
CALSCALE:GREGORIAN
DTSTAMP;TZID=Europe/Paris:20260523T000000
DTSTART;TZID=Europe/Paris:20260523T000000
DTEND;TZID=Europe/Paris:20260524T000000
LOCATION:8-10 rue David d'Angers\n Piscine Georges Hermant\
 n Paris\, 75019\n France\n 
URL:https://www.parisaquatique.fr/civicrm/event/info?reset=1&id=1563
END:VEVENT
END:VCALENDAR
